BEGIN:VCALENDAR
VERSION:2.0
PRODID:-//Sabre//Sabre VObject 4.5.8//EN
CALSCALE:GREGORIAN
BEGIN:VEVENT
UID:sabre-vobject-6d92c43f-5ddf-43c8-9f57-7f91d469fada
DTSTAMP:20260421T121837Z
SUMMARY:Biofach 2026
DESCRIPTION:Nürnberg\n10.-13. Februar 2026
LOCATION:Nürnberg
DTSTART:20260210T120000Z
DTEND:20260213T120000Z
END:VEVENT
END:VCALENDAR
