BEGIN:VCALENDAR
VERSION:2.0
PRODID:-//Sabre//Sabre VObject 4.5.8//EN
CALSCALE:GREGORIAN
BEGIN:VEVENT
UID:sabre-vobject-2427a219-bfb4-4540-b3a4-c426c72600f3
DTSTAMP:20260421T121825Z
SUMMARY:Asphaltseminar 2026
DESCRIPTION:Willingen\n24.-26. März 2026
LOCATION:Willingen
DTSTART:20260324T120000Z
DTEND:20260326T120000Z
END:VEVENT
END:VCALENDAR
