BEGIN:VCALENDAR
VERSION:2.0
PRODID:-//Sabre//Sabre VObject 4.5.8//EN
CALSCALE:GREGORIAN
BEGIN:VEVENT
UID:sabre-vobject-ecb17c70-10af-4d20-81ff-1e6c334ffe19
DTSTAMP:20260421T140519Z
SUMMARY:German Asphalt Days 2026
DESCRIPTION:Berchtesgaden\n25-27 February 2026
LOCATION:Berchtesgaden
DTSTART:20260225T120000Z
DTEND:20260227T120000Z
END:VEVENT
END:VCALENDAR
