BEGIN:VCALENDAR
VERSION:2.0
PRODID:-//Sabre//Sabre VObject 4.5.8//EN
CALSCALE:GREGORIAN
BEGIN:VEVENT
UID:sabre-vobject-7954d70d-747d-43a7-98bf-ea18621d9030
DTSTAMP:20260421T140612Z
SUMMARY:Interzoo 2026
DESCRIPTION:Nuremberg\n12-15 May 2026
LOCATION:Nuremberg
DTSTART:20260512T120000Z
DTEND:20260515T120000Z
END:VEVENT
END:VCALENDAR
