BEGIN:VCALENDAR
VERSION:2.0
PRODID:-//Sabre//Sabre VObject 4.5.8//EN
CALSCALE:GREGORIAN
BEGIN:VEVENT
UID:sabre-vobject-b83c1578-7fa1-42aa-8245-13f91b9ca52e
DTSTAMP:20260421T152222Z
SUMMARY:Asphalt seminar 2026
DESCRIPTION:Willingen\n24-26 March 2026
LOCATION:Willingen
DTSTART:20260324T120000Z
DTEND:20260326T120000Z
END:VEVENT
END:VCALENDAR
