BEGIN:VCALENDAR
VERSION:2.0
PRODID:-//Sabre//Sabre VObject 4.5.8//EN
CALSCALE:GREGORIAN
BEGIN:VEVENT
UID:sabre-vobject-c4f094c9-3126-4e57-beca-d7b7d62c803b
DTSTAMP:20260421T140518Z
SUMMARY:Paris Packaging Week 2026
DESCRIPTION:Paris\n05-06 February 2026
LOCATION:Paris
DTSTART:20260205T120000Z
DTEND:20260206T120000Z
END:VEVENT
END:VCALENDAR
