BEGIN:VCALENDAR
VERSION:2.0
PRODID:-//Sabre//Sabre VObject 4.5.8//EN
CALSCALE:GREGORIAN
BEGIN:VEVENT
UID:sabre-vobject-7f17e1ab-87f8-4559-837b-ddc9162052b6
DTSTAMP:20260421T140438Z
SUMMARY:PCI Days 2026
DESCRIPTION:Warschau\n16.-18. Juni 2026
LOCATION:Warschau
DTSTART:20260616T120000Z
DTEND:20260618T120000Z
END:VEVENT
END:VCALENDAR
