BEGIN:VCALENDAR
VERSION:2.0
PRODID:-//Sabre//Sabre VObject 4.5.8//EN
CALSCALE:GREGORIAN
BEGIN:VEVENT
UID:sabre-vobject-6e24b973-35e0-4e1f-a7e8-8cf10fe8a57c
DTSTAMP:20260421T140439Z
SUMMARY:Deutsche Asphalttage 2026
DESCRIPTION:Berchtesgaden\n25.-27. Februar 2026
LOCATION:Berchtesgaden
DTSTART:20260225T120000Z
DTEND:20260227T120000Z
END:VEVENT
END:VCALENDAR
