BEGIN:VCALENDAR
VERSION:2.0
PRODID:-//Sabre//Sabre VObject 4.5.8//EN
CALSCALE:GREGORIAN
BEGIN:VEVENT
UID:sabre-vobject-6a7fb334-cf36-42c0-8abf-b59ab416d428
DTSTAMP:20260421T140519Z
SUMMARY:PLMA Amsterdam 2026
DESCRIPTION:Amsterdam\n19-20 May 2026
LOCATION:Amsterdam
DTSTART:20260519T120000Z
DTEND:20260520T120000Z
END:VEVENT
END:VCALENDAR
