BEGIN:VCALENDAR
VERSION:2.0
PRODID:-//Sabre//Sabre VObject 4.5.8//EN
CALSCALE:GREGORIAN
BEGIN:VEVENT
UID:sabre-vobject-06e41c7d-de47-403b-90f8-95bc35e9d5de
DTSTAMP:20260421T140349Z
SUMMARY:Cosmetic Business 2026
DESCRIPTION:Munich\n10-11 June 2026
LOCATION:Munich
DTSTART:20260610T120000Z
DTEND:20260611T120000Z
END:VEVENT
END:VCALENDAR
